BEGIN:VCALENDAR
VERSION:2.0
PRODID:-//eventon.com NONSGML v1.0//EN
CALSCALE:GREGORIAN
METHOD:PUBLISH
BEGIN:VEVENT
UID:69e9657b7660a
DTSTAMP:20260423T001907Z
DTSTART:20211009T003000Z
DTEND:20211009T033000Z
LOCATION:
SUMMARY:Professor Harp
DESCRIPTION:1883 Lounge 8:30pm-11:30pm No Cover\nhttps://glencoveonsetbeach
 .com/events/professor-harp-3/
URL:https://glencoveonsetbeach.com/events/professor-harp-3/
END:VEVENT
END:VCALENDAR