BEGIN:VCALENDAR
VERSION:2.0
PRODID:-//eventon.com NONSGML v1.0//EN
CALSCALE:GREGORIAN
METHOD:PUBLISH
BEGIN:VEVENT
UID:69e735ceb3f18
DTSTAMP:20260421T083110Z
DTSTART:20211120T013000Z
DTEND:20211120T043000Z
LOCATION:
SUMMARY:Johnny Hoy & the Bluefish
DESCRIPTION:Johnny Hoy & the Bluefish\nhttps://glencoveonsetbeach.com/event
 s/johnny-hoy-the-bluefish/
URL:https://glencoveonsetbeach.com/events/johnny-hoy-the-bluefish/
END:VEVENT
END:VCALENDAR