BEGIN:VCALENDAR
VERSION:2.0
PRODID:-//eventon.com NONSGML v1.0//EN
CALSCALE:GREGORIAN
METHOD:PUBLISH
BEGIN:VEVENT
UID:69e8856936631
DTSTAMP:20260422T082305Z
DTSTART:20220416T003000Z
DTEND:20220416T033000Z
LOCATION:
SUMMARY:Chris Stovall Brown Band
DESCRIPTION:Chris Stovall Brown Band\nhttps://glencoveonsetbeach.com/events
 /chris-stovall-brown-band-10/
URL:https://glencoveonsetbeach.com/events/chris-stovall-brown-band-10/
END:VEVENT
END:VCALENDAR