BEGIN:VCALENDAR
VERSION:2.0
PRODID:-//eventon.com NONSGML v1.0//EN
CALSCALE:GREGORIAN
METHOD:PUBLISH
BEGIN:VEVENT
UID:69e73e6171b2b
DTSTAMP:20260421T090745Z
DTSTART:20230121T013000Z
DTEND:20230121T043000Z
LOCATION:
SUMMARY:Jody Moore Band
DESCRIPTION:Jody Moore Band\nhttps://glencoveonsetbeach.com/events/jody-moo
 re-band-9/
URL:https://glencoveonsetbeach.com/events/jody-moore-band-9/
END:VEVENT
END:VCALENDAR