BEGIN:VCALENDAR
VERSION:2.0
PRODID:-//eventon.com NONSGML v1.0//EN
CALSCALE:GREGORIAN
METHOD:PUBLISH
BEGIN:VEVENT
UID:69e5ed1f3cf9c
DTSTAMP:20260420T090847Z
DTSTART:20230205T013000Z
DTEND:20230205T043000Z
LOCATION:
SUMMARY:Beacon Street Band
DESCRIPTION:Beacon Street Band\nhttps://glencoveonsetbeach.com/events/beaco
 n-street-band/
URL:https://glencoveonsetbeach.com/events/beacon-street-band/
END:VEVENT
END:VCALENDAR