BEGIN:VCALENDAR
VERSION:2.0
PRODID:-//eventon.com NONSGML v1.0//EN
CALSCALE:GREGORIAN
METHOD:PUBLISH
BEGIN:VEVENT
UID:69ecbe20f35e7
DTSTAMP:20260425T131408Z
DTSTART:20230930T003000Z
DTEND:20230930T033000Z
LOCATION:
SUMMARY:Beacon Street Band
DESCRIPTION:$5 Cover after 9pm\nhttps://glencoveonsetbeach.com/events/beaco
 n-street-band-5/
URL:https://glencoveonsetbeach.com/events/beacon-street-band-5/
END:VEVENT
END:VCALENDAR