BEGIN:VCALENDAR
VERSION:2.0
PRODID:-//eventon.com NONSGML v1.0//EN
CALSCALE:GREGORIAN
METHOD:PUBLISH
BEGIN:VEVENT
UID:69e89b4aa6182
DTSTAMP:20260422T095626Z
DTSTART:20240204T013000Z
DTEND:20240204T043000Z
LOCATION:
SUMMARY:Radio Honey
DESCRIPTION:Radio Honey\nhttps://glencoveonsetbeach.com/events/radio-honey-
 6/
URL:https://glencoveonsetbeach.com/events/radio-honey-6/
END:VEVENT
END:VCALENDAR