BEGIN:VCALENDAR
VERSION:2.0
PRODID:-//eventon.com NONSGML v1.0//EN
CALSCALE:GREGORIAN
METHOD:PUBLISH
BEGIN:VEVENT
UID:69e61ca22a582
DTSTAMP:20260420T123130Z
DTSTART:20240421T003000Z
DTEND:20240421T033000Z
LOCATION:
SUMMARY:The Ramblin' Band
DESCRIPTION:The Ramblin' Band\nhttps://glencoveonsetbeach.com/events/the-ra
 mblin-band-10/
URL:https://glencoveonsetbeach.com/events/the-ramblin-band-10/
END:VEVENT
END:VCALENDAR