BEGIN:VCALENDAR
VERSION:2.0
PRODID:-//eventon.com NONSGML v1.0//EN
CALSCALE:GREGORIAN
METHOD:PUBLISH
BEGIN:VEVENT
UID:69e5313abaac6
DTSTAMP:20260419T194706Z
DTSTART:20240504T000000Z
DTEND:20240504T030000Z
LOCATION:
SUMMARY:Johnny Hoy and the Bluefish
DESCRIPTION:live entertainment in the Bay Room Tables are for dinner servic
 e only &#8211; call for reservation $10 cover at the door\nhttps://glencove
 onsetbeach.com/events/johnny-hoy-and-the-bluefish/
URL:https://glencoveonsetbeach.com/events/johnny-hoy-and-the-bluefish/
END:VEVENT
END:VCALENDAR