BEGIN:VCALENDAR
VERSION:2.0
PRODID:-//eventon.com NONSGML v1.0//EN
CALSCALE:GREGORIAN
METHOD:PUBLISH
BEGIN:VEVENT
UID:69eb40222f284
DTSTAMP:20260424T100418Z
DTSTART:20241110T013000Z
DTEND:20241110T043000Z
LOCATION:
SUMMARY:Red Herring Band
DESCRIPTION:Red Herring Band\nhttps://glencoveonsetbeach.com/events/red-her
 ring-band/
URL:https://glencoveonsetbeach.com/events/red-herring-band/
END:VEVENT
END:VCALENDAR