BEGIN:VCALENDAR
VERSION:2.0
PRODID:-//eventon.com NONSGML v1.0//EN
CALSCALE:GREGORIAN
METHOD:PUBLISH
BEGIN:VEVENT
UID:69e7485a6f1b6
DTSTAMP:20260421T095018Z
DTSTART:20250126T010000Z
DTEND:20250126T040000Z
LOCATION:
SUMMARY:Johnny Hoy & the Bluefish
DESCRIPTION:Johnny Hoy & the Bluefish\nhttps://glencoveonsetbeach.com/event
 s/johnny-hoy-the-bluefish-7/
URL:https://glencoveonsetbeach.com/events/johnny-hoy-the-bluefish-7/
END:VEVENT
END:VCALENDAR