BEGIN:VCALENDAR
VERSION:2.0
PRODID:-//eventon.com NONSGML v1.0//EN
CALSCALE:GREGORIAN
METHOD:PUBLISH
BEGIN:VEVENT
UID:69e5e4cc1ec84
DTSTAMP:20260420T083316Z
DTSTART:20251026T003000Z
DTEND:20251026T033000Z
LOCATION:
SUMMARY:781 Band
DESCRIPTION:781 Band\nhttps://glencoveonsetbeach.com/events/781-band-3/
URL:https://glencoveonsetbeach.com/events/781-band-3/
END:VEVENT
END:VCALENDAR